BEGIN:VCALENDAR
VERSION:2.0
PRODID:-//PYVOBJECT//NONSGML Version 0.9.9//EN
BEGIN:VTIMEZONE
TZID:CET
BEGIN:STANDARD
DTSTART:20001029T040000
RRULE:FREQ=YEARLY;BYDAY=-1SU;BYMONTH=10
TZNAME:CET
TZOFFSETFROM:+0200
TZOFFSETTO:+0100
END:STANDARD
BEGIN:DAYLIGHT
DTSTART:20000326T030000
RRULE:FREQ=YEARLY;BYDAY=-1SU;BYMONTH=3
TZNAME:CEST
TZOFFSETFROM:+0100
TZOFFSETTO:+0200
END:DAYLIGHT
END:VTIMEZONE
BEGIN:VEVENT
UID:event-215
DTSTART;TZID=CET:20260605T163000
DTEND;TZID=CET:20260605T190000
DESCRIPTION:Feierliche Verabschiedung der Absolvent:innen des FB WUBS 2026 
 - Veranstaltung
DTSTAMP:20260421T100506Z
GEO:52.16113870598733,11.685333251953127
LOCATION:Breitscheidstr. 2\, 39114 Magdeburg
SUMMARY:Feierliche Verabschiedung der Absolvent:innen des FB WUBS 2026
URL:https://h2-alumni.de/events/215/
END:VEVENT
END:VCALENDAR
