BEGIN:VCALENDAR
VERSION:2.0
PRODID:-//PYVOBJECT//NONSGML Version 0.9.9//EN
BEGIN:VTIMEZONE
TZID:CET
BEGIN:STANDARD
DTSTART:20001029T040000
RRULE:FREQ=YEARLY;BYDAY=-1SU;BYMONTH=10
TZNAME:CET
TZOFFSETFROM:+0200
TZOFFSETTO:+0100
END:STANDARD
BEGIN:DAYLIGHT
DTSTART:20000326T030000
RRULE:FREQ=YEARLY;BYDAY=-1SU;BYMONTH=3
TZNAME:CEST
TZOFFSETFROM:+0100
TZOFFSETTO:+0200
END:DAYLIGHT
END:VTIMEZONE
BEGIN:VEVENT
UID:event-245
DTSTART;TZID=CET:20251104T080000
DTEND;TZID=CET:20251128T200000
DESCRIPTION:Ausstellung "Naiver Surrealismus" von Roswitha Ebert - Veransta
 ltung
DTSTAMP:20260421T084237Z
GEO:52.1401298,11.6757769
LOCATION:Breitscheidstr. 2\, 39114 Magdeburg
SUMMARY:Ausstellung "Naiver Surrealismus" von Roswitha Ebert
URL:https://h2-alumni.de/events/245/
END:VEVENT
END:VCALENDAR
