BEGIN:VCALENDAR
VERSION:2.0
PRODID:-//PYVOBJECT//NONSGML Version 0.9.9//EN
BEGIN:VTIMEZONE
TZID:CET
BEGIN:STANDARD
DTSTART:20001029T040000
RRULE:FREQ=YEARLY;BYDAY=-1SU;BYMONTH=10
TZNAME:CET
TZOFFSETFROM:+0200
TZOFFSETTO:+0100
END:STANDARD
BEGIN:DAYLIGHT
DTSTART:20000326T030000
RRULE:FREQ=YEARLY;BYDAY=-1SU;BYMONTH=3
TZNAME:CEST
TZOFFSETFROM:+0100
TZOFFSETTO:+0200
END:DAYLIGHT
END:VTIMEZONE
BEGIN:VEVENT
UID:event-297
DTSTART;TZID=CET:20261105T190000
DTEND;TZID=CET:20261105T203000
DESCRIPTION:Elterninfoabend - Veranstaltung
DTSTAMP:20260423T150312Z
GEO:52.6394277,13.3109856
LOCATION:Breitscheidstr. 2\, 39114 Magdeburg
SUMMARY:Elterninfoabend
URL:https://h2-alumni.de/events/297/
END:VEVENT
END:VCALENDAR
