BEGIN:VCALENDAR
VERSION:2.0
PRODID:-//PYVOBJECT//NONSGML Version 0.9.9//EN
BEGIN:VTIMEZONE
TZID:CET
BEGIN:STANDARD
DTSTART:20001029T040000
RRULE:FREQ=YEARLY;BYDAY=-1SU;BYMONTH=10
TZNAME:CET
TZOFFSETFROM:+0200
TZOFFSETTO:+0100
END:STANDARD
BEGIN:DAYLIGHT
DTSTART:20000326T030000
RRULE:FREQ=YEARLY;BYDAY=-1SU;BYMONTH=3
TZNAME:CEST
TZOFFSETFROM:+0100
TZOFFSETTO:+0200
END:DAYLIGHT
END:VTIMEZONE
BEGIN:VEVENT
UID:event-321
DTSTART;TZID=CET:20260612T130000
DTEND;TZID=CET:20260612T160000
DESCRIPTION:20-jähriges Jubiläum des Studiengangs Management im Gesundhei
 tswesen - Veranstaltung
DTSTAMP:20260423T150928Z
GEO:31.7884543,35.2187712
LOCATION:Breitscheidstr. 2\, 39114 Magdeburg
SUMMARY:20-jähriges Jubiläum des Studiengangs Management im Gesundheitswe
 sen
URL:https://h2-alumni.de/events/321/
END:VEVENT
END:VCALENDAR
