BEGIN:VCALENDAR
VERSION:2.0
PRODID:-//PYVOBJECT//NONSGML Version 0.9.9//EN
BEGIN:VTIMEZONE
TZID:CET
BEGIN:STANDARD
DTSTART:20001029T040000
RRULE:FREQ=YEARLY;BYDAY=-1SU;BYMONTH=10
TZNAME:CET
TZOFFSETFROM:+0200
TZOFFSETTO:+0100
END:STANDARD
BEGIN:DAYLIGHT
DTSTART:20000326T030000
RRULE:FREQ=YEARLY;BYDAY=-1SU;BYMONTH=3
TZNAME:CEST
TZOFFSETFROM:+0100
TZOFFSETTO:+0200
END:DAYLIGHT
END:VTIMEZONE
BEGIN:VEVENT
UID:event-41
DTSTART;TZID=CET:20221212T130000
DTEND;TZID=CET:20221212T143000
DESCRIPTION:Gesprächsreihe: Mein Weg zur Professorin (hybrides Format) - V
 eranstaltung
DTSTAMP:20260425T134842Z
GEO:52.621203449999996,11.85982177154701
LOCATION:Osterburger Straße 25\, 39576 Stendal
SUMMARY:Gesprächsreihe: Mein Weg zur Professorin (hybrides Format)
URL:https://h2-alumni.de/events/41/
END:VEVENT
END:VCALENDAR
